BEGIN:VCALENDAR
VERSION:2.0
PRODID:-//Saugatuck-Douglas History Center - ECPv6.5.0//NONSGML v1.0//EN
CALSCALE:GREGORIAN
METHOD:PUBLISH
X-WR-CALNAME:Saugatuck-Douglas History Center
X-ORIGINAL-URL:https://mysdhistory.org
X-WR-CALDESC:Events for Saugatuck-Douglas History Center
REFRESH-INTERVAL;VALUE=DURATION:PT1H
X-Robots-Tag:noindex
X-PUBLISHED-TTL:PT1H
BEGIN:VTIMEZONE
TZID:America/Chicago
BEGIN:DAYLIGHT
TZOFFSETFROM:-0600
TZOFFSETTO:-0500
TZNAME:CDT
DTSTART:20260308T080000
END:DAYLIGHT
BEGIN:STANDARD
TZOFFSETFROM:-0500
TZOFFSETTO:-0600
TZNAME:CST
DTSTART:20261101T070000
END:STANDARD
END:VTIMEZONE
BEGIN:VEVENT
DTSTART;TZID=America/Chicago:20260421T140000
DTEND;TZID=America/Chicago:20260421T160000
DTSTAMP:20260420T194855
CREATED:20260115T191442Z
LAST-MODIFIED:20260115T191442Z
UID:10000190-1776780000-1776787200@mysdhistory.org
SUMMARY:Family History Help Session
DESCRIPTION:Join Chris Clark and Judi Thomas in the study room at the Saugatuck-Douglas Public Library to help you: \n\nAnswer questions about your family tree\,\nStart your family history\,\nDecide how to organize your work\,\nDiscover what is available in the Library and the History Center\,\nLearn how to use Ancestry Library Edition or other tools\,\nConsider new ways to get past a “brick wall\,”\nFind new family history resources and more!\n\nYou don’t need to register. Drop in at any time!
URL:https://mysdhistory.org/event/family-history-help-session-7/2026-04-21/
LOCATION:Saugatuck-Douglas District Library\, 174 Center Street\, Douglas\, MI\, 49406\, United States
ATTACH;FMTTYPE=image/png:https://mysdhistory.org/wp-content/uploads/2024/10/tree.png
ORGANIZER;CN="Saugatuck-Douglas History Center":MAILTO:info@sdhistoricalsociety.org
END:VEVENT
BEGIN:VEVENT
DTSTART;TZID=America/Chicago:20260430T170000
DTEND;TZID=America/Chicago:20260430T190000
DTSTAMP:20260420T194855
CREATED:20260311T145112Z
LAST-MODIFIED:20260416T190211Z
UID:10000198-1777568400-1777575600@mysdhistory.org
SUMMARY:On-Location — Felt Mansion
DESCRIPTION:Individual tickets for the Felt Mansion location are now available! \nJoin the series for its last event this spring\nThe Dorr E. Felt Mansion\, built from 1925 to 1928\, adjacent to Saugatuck Dunes State Park\, is best known today as a premier wedding venue\, but the building embodies many past lives. Attendees will learn about Chicagoan Dorr Felt’s rags-to-riches story with his invention of the Comptometer\, a mechanical adding machine that made his fortune. The estate’s later history will come to life through behind-the-scenes tours of the mansion: its time as a Catholic seminary\, a prison\, and a Michigan State Police post\, and its rise from ruin after decades of neglect.
URL:https://mysdhistory.org/event/on-location-felt-mansion/
LOCATION:Felt Mansion\, 6597 138th St\, Holland\, MI\, 49423\, United States
CATEGORIES:On Location
ATTACH;FMTTYPE=image/png:https://mysdhistory.org/wp-content/uploads/2026/03/FeltMansion.png
ORGANIZER;CN="Saugatuck-Douglas History Center":MAILTO:info@sdhistoricalsociety.org
END:VEVENT
BEGIN:VEVENT
DTSTART;TZID=America/Chicago:20260513T160000
DTEND;TZID=America/Chicago:20260513T180000
DTSTAMP:20260420T194855
CREATED:20260311T153516Z
LAST-MODIFIED:20260311T153516Z
UID:10000201-1778688000-1778695200@mysdhistory.org
SUMMARY:Preservation Month Celebration
DESCRIPTION:This free public program will cover the history of Village Hall and the founding of the Saugatuck-Douglas History Society. \nSave the date! More information is forthcoming.
URL:https://mysdhistory.org/event/preservation-month-celebration/
LOCATION:Saugatuck City Hall\, 102 Butler St.\, Saugatuck\, MI\, 49453\, United States
ATTACH;FMTTYPE=image/jpeg:https://mysdhistory.org/wp-content/uploads/2026/03/pres-month.jpg
ORGANIZER;CN="Saugatuck-Douglas History Center":MAILTO:info@sdhistoricalsociety.org
END:VEVENT
BEGIN:VEVENT
DTSTART;TZID=America/Chicago:20260519T140000
DTEND;TZID=America/Chicago:20260519T160000
DTSTAMP:20260420T194855
CREATED:20260115T191442Z
LAST-MODIFIED:20260115T191442Z
UID:10000191-1779199200-1779206400@mysdhistory.org
SUMMARY:Family History Help Session
DESCRIPTION:Join Chris Clark and Judi Thomas in the study room at the Saugatuck-Douglas Public Library to help you: \n\nAnswer questions about your family tree\,\nStart your family history\,\nDecide how to organize your work\,\nDiscover what is available in the Library and the History Center\,\nLearn how to use Ancestry Library Edition or other tools\,\nConsider new ways to get past a “brick wall\,”\nFind new family history resources and more!\n\nYou don’t need to register. Drop in at any time!
URL:https://mysdhistory.org/event/family-history-help-session-7/2026-05-19/
LOCATION:Saugatuck-Douglas District Library\, 174 Center Street\, Douglas\, MI\, 49406\, United States
ATTACH;FMTTYPE=image/png:https://mysdhistory.org/wp-content/uploads/2024/10/tree.png
ORGANIZER;CN="Saugatuck-Douglas History Center":MAILTO:info@sdhistoricalsociety.org
END:VEVENT
END:VCALENDAR